BEGIN:VCALENDAR
VERSION:2.0
PRODID:-//Қазақстан Республикасының ауыр атлетика федерациясы - ECPv5.8.0//NONSGML v1.0//EN
CALSCALE:GREGORIAN
METHOD:PUBLISH
X-WR-CALNAME:Қазақстан Республикасының ауыр атлетика федерациясы
X-ORIGINAL-URL:http://wfrk.kz
X-WR-CALDESC:Events for Қазақстан Республикасының ауыр атлетика федерациясы
BEGIN:VTIMEZONE
TZID:Asia/Aqtobe
BEGIN:STANDARD
TZOFFSETFROM:+0500
TZOFFSETTO:+0500
TZNAME:+05
DTSTART:20190101T000000
END:STANDARD
END:VTIMEZONE
BEGIN:VEVENT
DTSTART;VALUE=DATE:20191028
DTEND;VALUE=DATE:20191105
DTSTAMP:20260420T135350
CREATED:20190416T052814Z
LAST-MODIFIED:20190416T052814Z
UID:2648-1572220800-1572911999@wfrk.kz
SUMMARY:23 жасқа дейінгі жастар арасындағы Қазақстан Республикасының Чемпионаты
DESCRIPTION:
URL:http://wfrk.kz/kz/event/23-%d0%b6%d0%b0%d1%81%d2%9b%d0%b0-%d0%b4%d0%b5%d0%b9%d1%96%d0%bd%d0%b3%d1%96-%d0%b6%d0%b0%d1%81%d1%82%d0%b0%d1%80-%d0%b0%d1%80%d0%b0%d1%81%d1%8b%d0%bd%d0%b4%d0%b0%d2%93%d1%8b-%d2%9b%d0%b0%d0%b7%d0%b0/
END:VEVENT
END:VCALENDAR