BEGIN:VCALENDAR
VERSION:2.0
PRODID:-//Қазақстан Республикасының ауыр атлетика федерациясы - ECPv5.8.0//NONSGML v1.0//EN
CALSCALE:GREGORIAN
METHOD:PUBLISH
X-WR-CALNAME:Қазақстан Республикасының ауыр атлетика федерациясы
X-ORIGINAL-URL:http://wfrk.kz
X-WR-CALDESC:Events for Қазақстан Республикасының ауыр атлетика федерациясы
BEGIN:VTIMEZONE
TZID:Europe/Moscow
BEGIN:STANDARD
TZOFFSETFROM:+0300
TZOFFSETTO:+0300
TZNAME:MSK
DTSTART:20180101T000000
END:STANDARD
END:VTIMEZONE
BEGIN:VEVENT
DTSTART;TZID=Europe/Moscow:20181223T080000
DTEND;TZID=Europe/Moscow:20181227T170000
DTSTAMP:20260419T194336
CREATED:20181119T015243Z
LAST-MODIFIED:20181119T015243Z
UID:1017-1545552000-1545930000@wfrk.kz
SUMMARY:ҚазССР Еңбек сіңірген жаттықтырушы В.Ю.Пакты еске алуға арналған ауыр атлетикадан жастар және ардагерлер арасындагы Республикалық турнирі
DESCRIPTION:
URL:http://wfrk.kz/kz/event/%d2%9b%d0%b0%d0%b7%d1%81%d1%81%d1%80-%d0%b5%d2%a3%d0%b1%d0%b5%d0%ba-%d1%81%d1%96%d2%a3%d1%96%d1%80%d0%b3%d0%b5%d0%bd-%d0%b6%d0%b0%d1%82%d1%82%d1%8b%d2%9b%d1%82%d1%8b%d1%80%d1%83%d1%88%d1%8b-%d0%b2/
LOCATION:Кокшетау\, Кокшетау\, Казахстан
END:VEVENT
END:VCALENDAR