BEGIN:VCALENDAR
VERSION:2.0
PRODID:-//Қазақстан Республикасының ауыр атлетика федерациясы - ECPv5.8.0//NONSGML v1.0//EN
CALSCALE:GREGORIAN
METHOD:PUBLISH
X-WR-CALNAME:Қазақстан Республикасының ауыр атлетика федерациясы
X-ORIGINAL-URL:http://wfrk.kz
X-WR-CALDESC:Events for Қазақстан Республикасының ауыр атлетика федерациясы
BEGIN:VTIMEZONE
TZID:Asia/Aqtobe
BEGIN:STANDARD
TZOFFSETFROM:+0500
TZOFFSETTO:+0500
TZNAME:+05
DTSTART:20190101T000000
END:STANDARD
END:VTIMEZONE
BEGIN:VEVENT
DTSTART;VALUE=DATE:20190418
DTEND;VALUE=DATE:20190501
DTSTAMP:20260420T135308
CREATED:20190416T060752Z
LAST-MODIFIED:20190416T060752Z
UID:2651-1555545600-1556668799@wfrk.kz
SUMMARY:Ерлер мен әйелдер арасындағы Азия Чемпионаты
DESCRIPTION:
URL:http://wfrk.kz/kz/event/%d0%b5%d1%80%d0%bb%d0%b5%d1%80-%d0%bc%d0%b5%d0%bd-%d3%99%d0%b9%d0%b5%d0%bb%d0%b4%d0%b5%d1%80-%d0%b0%d1%80%d0%b0%d1%81%d1%8b%d0%bd%d0%b4%d0%b0%d2%93%d1%8b-%d0%b0%d0%b7%d0%b8%d1%8f-%d1%87%d0%b5%d0%bc-2/
END:VEVENT
END:VCALENDAR