BEGIN:VCALENDAR
VERSION:2.0
PRODID:-//Қазақстан Республикасының ауыр атлетика федерациясы - ECPv5.8.0//NONSGML v1.0//EN
CALSCALE:GREGORIAN
METHOD:PUBLISH
X-WR-CALNAME:Қазақстан Республикасының ауыр атлетика федерациясы
X-ORIGINAL-URL:http://wfrk.kz
X-WR-CALDESC:Events for Қазақстан Республикасының ауыр атлетика федерациясы
BEGIN:VTIMEZONE
TZID:Asia/Aqtobe
BEGIN:STANDARD
TZOFFSETFROM:+0500
TZOFFSETTO:+0500
TZNAME:+05
DTSTART:20190101T000000
END:STANDARD
END:VTIMEZONE
BEGIN:VEVENT
DTSTART;VALUE=DATE:20190121
DTEND;VALUE=DATE:20190129
DTSTAMP:20260421T154306
CREATED:20190125T042700Z
LAST-MODIFIED:20190125T042700Z
UID:2047-1548028800-1548719999@wfrk.kz
SUMMARY:Ауыр атлетика 17 жасқа дейінгі ұлдар мен қыздар арасындағы ҚР жеке-командалық Чемпионаты
DESCRIPTION:
URL:http://wfrk.kz/kz/event/%d0%b0%d1%83%d1%8b%d1%80-%d0%b0%d1%82%d0%bb%d0%b5%d1%82%d0%b8%d0%ba%d0%b0-17-%d0%b6%d0%b0%d1%81%d2%9b%d0%b0-%d0%b4%d0%b5%d0%b9%d1%96%d0%bd%d0%b3%d1%96-%d2%b1%d0%bb%d0%b4%d0%b0%d1%80-%d0%bc%d0%b5%d0%bd/
LOCATION:Шымкент\, Казахстан
END:VEVENT
END:VCALENDAR