BEGIN:VCALENDAR
VERSION:2.0
PRODID:-//Қазақстан Республикасының ауыр атлетика федерациясы - ECPv5.8.0//NONSGML v1.0//EN
CALSCALE:GREGORIAN
METHOD:PUBLISH
X-WR-CALNAME:Қазақстан Республикасының ауыр атлетика федерациясы
X-ORIGINAL-URL:http://wfrk.kz
X-WR-CALDESC:Events for Қазақстан Республикасының ауыр атлетика федерациясы
BEGIN:VTIMEZONE
TZID:Asia/Aqtobe
BEGIN:STANDARD
TZOFFSETFROM:+0500
TZOFFSETTO:+0500
TZNAME:+05
DTSTART:20190101T000000
END:STANDARD
END:VTIMEZONE
BEGIN:VEVENT
DTSTART;VALUE=DATE:20191001
DTEND;VALUE=DATE:20191009
DTSTAMP:20260420T135353
CREATED:20190416T054639Z
LAST-MODIFIED:20190416T060433Z
UID:2664-1569888000-1570579199@wfrk.kz
SUMMARY:Ауыр атлетикадан 2003-2004 т.ж. және кіші жасөспірімдер және қыздар арасындағы Қазақстан Республикасының Чемпионаты
DESCRIPTION:
URL:http://wfrk.kz/kz/event/%d0%b0%d1%83%d1%8b%d1%80-%d0%b0%d1%82%d0%bb%d0%b5%d1%82%d0%b8%d0%ba%d0%b0%d0%b4%d0%b0%d0%bd-2003-2004-%d1%82-%d0%b6-%d0%b6%d0%b0%d1%81%d3%a9%d1%81%d0%bf%d1%96%d1%80%d1%96%d0%bc%d0%b4%d0%b5%d1%80/
END:VEVENT
END:VCALENDAR