BEGIN:VCALENDAR
VERSION:2.0
PRODID:-//&nbsp;&nbsp;&nbsp;&nbsp;&nbsp;&nbsp;&nbsp;Федерация тяжелой атлетики &nbsp;&nbsp;&nbsp;&nbsp;&nbsp;&nbsp;&nbsp;&nbsp;&nbsp;&nbsp;&nbsp;Республики Казахстан - ECPv5.8.0//NONSGML v1.0//EN
CALSCALE:GREGORIAN
METHOD:PUBLISH
X-WR-CALNAME:&nbsp;&nbsp;&nbsp;&nbsp;&nbsp;&nbsp;&nbsp;Федерация тяжелой атлетики &nbsp;&nbsp;&nbsp;&nbsp;&nbsp;&nbsp;&nbsp;&nbsp;&nbsp;&nbsp;&nbsp;Республики Казахстан
X-ORIGINAL-URL:http://wfrk.kz
X-WR-CALDESC:События для &nbsp;&nbsp;&nbsp;&nbsp;&nbsp;&nbsp;&nbsp;Федерация тяжелой атлетики &nbsp;&nbsp;&nbsp;&nbsp;&nbsp;&nbsp;&nbsp;&nbsp;&nbsp;&nbsp;&nbsp;Республики Казахстан
BEGIN:VTIMEZONE
TZID:Europe/Moscow
BEGIN:STANDARD
TZOFFSETFROM:+0300
TZOFFSETTO:+0300
TZNAME:MSK
DTSTART:20180101T000000
END:STANDARD
END:VTIMEZONE
BEGIN:VEVENT
DTSTART;TZID=Europe/Moscow:20181223T080000
DTEND;TZID=Europe/Moscow:20181227T170000
DTSTAMP:20260421T165313
CREATED:20181002T030136Z
LAST-MODIFIED:20181119T015112Z
UID:461-1545552000-1545930000@wfrk.kz
SUMMARY:Открытый РТ посвященный памяти ЗТ КазССР Пак В.Ю. среди ветеранов и молодежи
DESCRIPTION:
URL:http://wfrk.kz/event/%d0%be%d1%82%d0%ba%d1%80%d1%8b%d1%82%d1%8b%d0%b9-%d1%80%d1%82-%d0%bf%d0%be%d1%81%d0%b2%d1%8f%d1%89%d0%b5%d0%bd%d0%bd%d1%8b%d0%b9-%d0%bf%d0%b0%d0%bc%d1%8f%d1%82%d0%b8-%d0%b7%d1%82-%d0%ba%d0%b0%d0%b7/
LOCATION:Кокшетау\, Кокшетау\, Казахстан
END:VEVENT
END:VCALENDAR