BEGIN:VCALENDAR
VERSION:2.0
PRODID:-//&nbsp;&nbsp;&nbsp;&nbsp;&nbsp;&nbsp;&nbsp;Федерация тяжелой атлетики &nbsp;&nbsp;&nbsp;&nbsp;&nbsp;&nbsp;&nbsp;&nbsp;&nbsp;&nbsp;&nbsp;Республики Казахстан - ECPv5.8.0//NONSGML v1.0//EN
CALSCALE:GREGORIAN
METHOD:PUBLISH
X-WR-CALNAME:&nbsp;&nbsp;&nbsp;&nbsp;&nbsp;&nbsp;&nbsp;Федерация тяжелой атлетики &nbsp;&nbsp;&nbsp;&nbsp;&nbsp;&nbsp;&nbsp;&nbsp;&nbsp;&nbsp;&nbsp;Республики Казахстан
X-ORIGINAL-URL:http://wfrk.kz
X-WR-CALDESC:События для &nbsp;&nbsp;&nbsp;&nbsp;&nbsp;&nbsp;&nbsp;Федерация тяжелой атлетики &nbsp;&nbsp;&nbsp;&nbsp;&nbsp;&nbsp;&nbsp;&nbsp;&nbsp;&nbsp;&nbsp;Республики Казахстан
BEGIN:VTIMEZONE
TZID:Asia/Aqtobe
BEGIN:STANDARD
TZOFFSETFROM:+0500
TZOFFSETTO:+0500
TZNAME:+05
DTSTART:20190101T000000
END:STANDARD
END:VTIMEZONE
BEGIN:VEVENT
DTSTART;VALUE=DATE:20190218
DTEND;VALUE=DATE:20190227
DTSTAMP:20260421T154010
CREATED:20181226T055611Z
LAST-MODIFIED:20181226T055611Z
UID:1874-1550448000-1551225599@wfrk.kz
SUMMARY:Кубок Мира по тяжелой атлетике
DESCRIPTION:
URL:http://wfrk.kz/event/%d0%ba%d1%83%d0%b1%d0%be%d0%ba-%d0%bc%d0%b8%d1%80%d0%b0-%d0%bf%d0%be-%d1%82%d1%8f%d0%b6%d0%b5%d0%bb%d0%be%d0%b9-%d0%b0%d1%82%d0%bb%d0%b5%d1%82%d0%b8%d0%ba%d0%b5/
END:VEVENT
END:VCALENDAR