BEGIN:VCALENDAR
VERSION:2.0
PRODID:-//Weightlifting Federation of the Republic of Kazakhstan - ECPv5.8.0//NONSGML v1.0//EN
CALSCALE:GREGORIAN
METHOD:PUBLISH
X-WR-CALNAME:Weightlifting Federation of the Republic of Kazakhstan
X-ORIGINAL-URL:http://wfrk.kz
X-WR-CALDESC:Events for Weightlifting Federation of the Republic of Kazakhstan
BEGIN:VTIMEZONE
TZID:Europe/Moscow
BEGIN:STANDARD
TZOFFSETFROM:+0300
TZOFFSETTO:+0300
TZNAME:MSK
DTSTART:20180101T000000
END:STANDARD
END:VTIMEZONE
BEGIN:VEVENT
DTSTART;TZID=Europe/Moscow:20181201T080000
DTEND;TZID=Europe/Moscow:20181201T170000
DTSTAMP:20260422T140916
CREATED:20181119T023314Z
LAST-MODIFIED:20181119T023314Z
UID:1027-1543651200-1543683600@wfrk.kz
SUMMARY:Republican Tournament for the prizes of Olympic Games medalist S.Filimonov between two ages 2002-2003 d.o.b.\, 2004 d.o.b. and younger
DESCRIPTION:
URL:http://wfrk.kz/en/event/republican-tournament-for-the-prizes-of-olympic-games-medalist-s-filimonov-between-two-ages-2002-2003-d-o-b-2004-d-o-b-and-younger/
END:VEVENT
END:VCALENDAR