BEGIN:VCALENDAR
VERSION:2.0
PRODID:-//Weightlifting Federation of the Republic of Kazakhstan - ECPv5.8.0//NONSGML v1.0//EN
CALSCALE:GREGORIAN
METHOD:PUBLISH
X-WR-CALNAME:Weightlifting Federation of the Republic of Kazakhstan
X-ORIGINAL-URL:http://wfrk.kz
X-WR-CALDESC:Events for Weightlifting Federation of the Republic of Kazakhstan
BEGIN:VTIMEZONE
TZID:Europe/Moscow
BEGIN:STANDARD
TZOFFSETFROM:+0300
TZOFFSETTO:+0300
TZNAME:MSK
DTSTART:20180101T000000
END:STANDARD
END:VTIMEZONE
BEGIN:VEVENT
DTSTART;TZID=Europe/Moscow:20181223T080000
DTEND;TZID=Europe/Moscow:20181227T170000
DTSTAMP:20260421T141445
CREATED:20181119T015304Z
LAST-MODIFIED:20181119T015304Z
UID:1019-1545552000-1545930000@wfrk.kz
SUMMARY:Open Republican tournament dedicated to the memory of Honored coach of the KazSSR Pak V. among veterans and youth
DESCRIPTION:
URL:http://wfrk.kz/en/event/open-republican-tournament-dedicated-to-the-memory-of-honored-coach-of-the-kazssr-pak-v-among-veterans-and-youth/
END:VEVENT
END:VCALENDAR