BEGIN:VCALENDAR
VERSION:2.0
PRODID:-//Weightlifting Federation of the Republic of Kazakhstan - ECPv5.8.0//NONSGML v1.0//EN
CALSCALE:GREGORIAN
METHOD:PUBLISH
X-WR-CALNAME:Weightlifting Federation of the Republic of Kazakhstan
X-ORIGINAL-URL:http://wfrk.kz
X-WR-CALDESC:Events for Weightlifting Federation of the Republic of Kazakhstan
BEGIN:VTIMEZONE
TZID:Asia/Aqtobe
BEGIN:STANDARD
TZOFFSETFROM:+0500
TZOFFSETTO:+0500
TZNAME:+05
DTSTART:20190101T000000
END:STANDARD
END:VTIMEZONE
BEGIN:VEVENT
DTSTART;VALUE=DATE:20191029
DTEND;VALUE=DATE:20191104
DTSTAMP:20260421T141405
CREATED:20190125T043334Z
LAST-MODIFIED:20190125T043334Z
UID:2055-1572307200-1572825599@wfrk.kz
SUMMARY:Men’s and Women’s Open Republican Tournament n.a. Khrapaty
DESCRIPTION:
URL:http://wfrk.kz/en/event/mens-and-womens-open-republican-tournament-n-a-khrapaty/
END:VEVENT
END:VCALENDAR