BEGIN:VCALENDAR
VERSION:2.0
PRODID:-//Weightlifting Federation of the Republic of Kazakhstan - ECPv5.8.0//NONSGML v1.0//EN
CALSCALE:GREGORIAN
METHOD:PUBLISH
X-WR-CALNAME:Weightlifting Federation of the Republic of Kazakhstan
X-ORIGINAL-URL:http://wfrk.kz
X-WR-CALDESC:Events for Weightlifting Federation of the Republic of Kazakhstan
BEGIN:VTIMEZONE
TZID:Europe/Moscow
BEGIN:STANDARD
TZOFFSETFROM:+0300
TZOFFSETTO:+0300
TZNAME:MSK
DTSTART:20180101T000000
END:STANDARD
END:VTIMEZONE
BEGIN:VEVENT
DTSTART;TZID=Europe/Moscow:20181101T080000
DTEND;TZID=Europe/Moscow:20181101T170000
DTSTAMP:20260420T150301
CREATED:20181119T023414Z
LAST-MODIFIED:20181119T023414Z
UID:1031-1541059200-1541091600@wfrk.kz
SUMMARY:Men’s and Women’s Open Republican Tournament dedicated to the memory of the Master of Sports of the RK\, Honored Coach Uteshev D.
DESCRIPTION:
URL:http://wfrk.kz/en/event/mens-and-womens-open-republican-tournament-dedicated-to-the-memory-of-the-master-of-sports-of-the-rk-honored-coach-uteshev-d/
END:VEVENT
END:VCALENDAR