BEGIN:VCALENDAR
VERSION:2.0
PRODID:-//Weightlifting Federation of the Republic of Kazakhstan - ECPv5.8.0//NONSGML v1.0//EN
CALSCALE:GREGORIAN
METHOD:PUBLISH
X-WR-CALNAME:Weightlifting Federation of the Republic of Kazakhstan
X-ORIGINAL-URL:http://wfrk.kz
X-WR-CALDESC:Events for Weightlifting Federation of the Republic of Kazakhstan
BEGIN:VTIMEZONE
TZID:Asia/Aqtobe
BEGIN:STANDARD
TZOFFSETFROM:+0500
TZOFFSETTO:+0500
TZNAME:+05
DTSTART:20190101T000000
END:STANDARD
END:VTIMEZONE
BEGIN:VEVENT
DTSTART;VALUE=DATE:20190418
DTEND;VALUE=DATE:20190501
DTSTAMP:20260420T134758
CREATED:20190125T090038Z
LAST-MODIFIED:20190125T090038Z
UID:2095-1555545600-1556668799@wfrk.kz
SUMMARY:Asian Championships
DESCRIPTION:
URL:http://wfrk.kz/en/event/asian-championships/
END:VEVENT
END:VCALENDAR